BEGIN:VCALENDAR
VERSION:2.0
PRODID:-//Offline Sharks - ECPv6.15.14//NONSGML v1.0//EN
CALSCALE:GREGORIAN
METHOD:PUBLISH
X-WR-CALNAME:Offline Sharks
X-ORIGINAL-URL:https://offlinesharks.com
X-WR-CALDESC:Events for Offline Sharks
REFRESH-INTERVAL;VALUE=DURATION:PT1H
X-Robots-Tag:noindex
X-PUBLISHED-TTL:PT1H
BEGIN:VTIMEZONE
TZID:America/New_York
BEGIN:DAYLIGHT
TZOFFSETFROM:-0500
TZOFFSETTO:-0400
TZNAME:EDT
DTSTART:20200308T070000
END:DAYLIGHT
BEGIN:STANDARD
TZOFFSETFROM:-0400
TZOFFSETTO:-0500
TZNAME:EST
DTSTART:20201101T060000
END:STANDARD
BEGIN:DAYLIGHT
TZOFFSETFROM:-0500
TZOFFSETTO:-0400
TZNAME:EDT
DTSTART:20210314T070000
END:DAYLIGHT
BEGIN:STANDARD
TZOFFSETFROM:-0400
TZOFFSETTO:-0500
TZNAME:EST
DTSTART:20211107T060000
END:STANDARD
BEGIN:DAYLIGHT
TZOFFSETFROM:-0500
TZOFFSETTO:-0400
TZNAME:EDT
DTSTART:20220313T070000
END:DAYLIGHT
BEGIN:STANDARD
TZOFFSETFROM:-0400
TZOFFSETTO:-0500
TZNAME:EST
DTSTART:20221106T060000
END:STANDARD
BEGIN:DAYLIGHT
TZOFFSETFROM:-0500
TZOFFSETTO:-0400
TZNAME:EDT
DTSTART:20230312T070000
END:DAYLIGHT
BEGIN:STANDARD
TZOFFSETFROM:-0400
TZOFFSETTO:-0500
TZNAME:EST
DTSTART:20231105T060000
END:STANDARD
END:VTIMEZONE
BEGIN:VTIMEZONE
TZID:America/Detroit
BEGIN:DAYLIGHT
TZOFFSETFROM:-0500
TZOFFSETTO:-0400
TZNAME:EDT
DTSTART:20210314T070000
END:DAYLIGHT
BEGIN:STANDARD
TZOFFSETFROM:-0400
TZOFFSETTO:-0500
TZNAME:EST
DTSTART:20211107T060000
END:STANDARD
BEGIN:DAYLIGHT
TZOFFSETFROM:-0500
TZOFFSETTO:-0400
TZNAME:EDT
DTSTART:20220313T070000
END:DAYLIGHT
BEGIN:STANDARD
TZOFFSETFROM:-0400
TZOFFSETTO:-0500
TZNAME:EST
DTSTART:20221106T060000
END:STANDARD
BEGIN:DAYLIGHT
TZOFFSETFROM:-0500
TZOFFSETTO:-0400
TZNAME:EDT
DTSTART:20230312T070000
END:DAYLIGHT
BEGIN:STANDARD
TZOFFSETFROM:-0400
TZOFFSETTO:-0500
TZNAME:EST
DTSTART:20231105T060000
END:STANDARD
END:VTIMEZONE
BEGIN:VEVENT
DTSTART;TZID=America/New_York:20220623T150000
DTEND;TZID=America/New_York:20220623T163000
DTSTAMP:20260421T055220
CREATED:20220621T170040Z
LAST-MODIFIED:20220621T170040Z
UID:96180-1655996400-1656001800@offlinesharks.com
SUMMARY:The $50k/m Remote Marketing Agency Workshop
DESCRIPTION:
URL:https://offlinesharks.com/event/the-50k-m-remote-marketing-agency-workshop/
LOCATION:GoToWebinar
END:VEVENT
BEGIN:VEVENT
DTSTART;TZID=America/New_York:20220609T180000
DTEND;TZID=America/New_York:20220609T190000
DTSTAMP:20260421T055220
CREATED:20220607T171909Z
LAST-MODIFIED:20220607T171909Z
UID:96096-1654797600-1654801200@offlinesharks.com
SUMMARY:Traffic Client Secrets Bonus Q&A Call
DESCRIPTION:
URL:https://offlinesharks.com/event/traffic-client-secrets-bonus-qa-call/
LOCATION:GoToWebinar
END:VEVENT
BEGIN:VEVENT
DTSTART;TZID=America/New_York:20220601T150000
DTEND;TZID=America/New_York:20220601T170000
DTSTAMP:20260421T055220
CREATED:20220601T142556Z
LAST-MODIFIED:20220601T225559Z
UID:96048-1654095600-1654102800@offlinesharks.com
SUMMARY:Secret Traffic Code Special Training
DESCRIPTION:
URL:https://offlinesharks.com/event/secret-traffic-code-special-training/
LOCATION:GoToWebinar
END:VEVENT
BEGIN:VEVENT
DTSTART;TZID=America/Detroit:20220427T150000
DTEND;TZID=America/Detroit:20220427T170000
DTSTAMP:20260421T055220
CREATED:20220425T155834Z
LAST-MODIFIED:20220425T155834Z
UID:95777-1651071600-1651078800@offlinesharks.com
SUMMARY:Local Business Gamification: How to Land New Clients & Drive New Customers in 2 Weeks Using Simple "Games"
DESCRIPTION:
URL:https://offlinesharks.com/event/local-business-gamification-how-to-land-new-clients-drive-new-customers-in-2-weeks-using-simple-games/
LOCATION:GoToWebinar
END:VEVENT
BEGIN:VEVENT
DTSTART;TZID=America/Detroit:20220420T160000
DTEND;TZID=America/Detroit:20220420T173000
DTSTAMP:20260421T055220
CREATED:20220418T150258Z
LAST-MODIFIED:20220418T162448Z
UID:95706-1650470400-1650475800@offlinesharks.com
SUMMARY:Local SEO Wizard: How To Turn Unlimited Keyword Niches Into Riches
DESCRIPTION:
URL:https://offlinesharks.com/event/local-seo-wizard-how-to-turn-unlimited-keyword-niches-into-riches/
LOCATION:GoToWebinar
END:VEVENT
BEGIN:VEVENT
DTSTART;TZID=America/New_York:20220406T150000
DTEND;TZID=America/New_York:20220406T170000
DTSTAMP:20260421T055220
CREATED:20220404T145739Z
LAST-MODIFIED:20220404T145739Z
UID:95581-1649257200-1649264400@offlinesharks.com
SUMMARY:How to Do $100k/Month in SEO (Live Demo & Training)
DESCRIPTION:
URL:https://offlinesharks.com/event/how-to-do-100k-month-in-seo-live-demo-training/
LOCATION:GoToWebinar
END:VEVENT
BEGIN:VEVENT
DTSTART;TZID=America/New_York:20220323T180000
DTEND;TZID=America/New_York:20220323T190000
DTSTAMP:20260421T055220
CREATED:20201225T012937Z
LAST-MODIFIED:20220309T225546Z
UID:84759-1648058400-1648062000@offlinesharks.com
SUMMARY:Agency Growth Machine Coaching Call
DESCRIPTION:
URL:https://offlinesharks.com/event/agency-growth-machine-coaching-call-2022-03-09/
LOCATION:GoToWebinar
ATTACH;FMTTYPE=image/png:https://offlinesharks.com/wp-content/uploads/2020/12/Shark-Alliance-Elite-Coaching-Call-2.png
END:VEVENT
BEGIN:VEVENT
DTSTART;TZID=America/New_York:20220317T120000
DTEND;TZID=America/New_York:20220317T140000
DTSTAMP:20260421T055220
CREATED:20220316T215410Z
LAST-MODIFIED:20220316T215410Z
UID:95449-1647518400-1647525600@offlinesharks.com
SUMMARY:ENCORE! Your Virtual Fortune Roadmap: Your Step-By-Step Path To Becoming A Remote Millionaire
DESCRIPTION:
URL:https://offlinesharks.com/event/encore-your-virtual-fortune-roadmap-your-step-by-step-path-to-becoming-a-remote-millionaire/
LOCATION:GoToWebinar
END:VEVENT
BEGIN:VEVENT
DTSTART;TZID=America/New_York:20220316T150000
DTEND;TZID=America/New_York:20220316T170000
DTSTAMP:20260421T055220
CREATED:20220314T154238Z
LAST-MODIFIED:20220314T154238Z
UID:95438-1647442800-1647450000@offlinesharks.com
SUMMARY:Your Virtual Fortune Roadmap: Your Step-By-Step Path To Becoming A Remote Millionaire
DESCRIPTION:
URL:https://offlinesharks.com/event/your-virtual-fortune-roadmap-your-step-by-step-path-to-becoming-a-remote-millionaire/
LOCATION:GoToWebinar
END:VEVENT
BEGIN:VEVENT
DTSTART;TZID=America/New_York:20220310T190000
DTEND;TZID=America/New_York:20220310T203000
DTSTAMP:20260421T055220
CREATED:20220309T225609Z
LAST-MODIFIED:20220309T225700Z
UID:95379-1646938800-1646944200@offlinesharks.com
SUMMARY:ENCORE: How To Build A Fully Remote Team Without Spending A Cent!
DESCRIPTION:
URL:https://offlinesharks.com/event/encore-how-to-build-a-fully-remote-team-without-spending-a-cent/
LOCATION:GoToWebinar
END:VEVENT
BEGIN:VEVENT
DTSTART;TZID=America/New_York:20220309T150000
DTEND;TZID=America/New_York:20220309T170000
DTSTAMP:20260421T055220
CREATED:20220223T000257Z
LAST-MODIFIED:20220223T000257Z
UID:95128-1646838000-1646845200@offlinesharks.com
SUMMARY:Home Services Jackpot Bonus Training
DESCRIPTION:
URL:https://offlinesharks.com/event/home-services-jackpot-bonus-training/
LOCATION:GoToWebinar
END:VEVENT
BEGIN:VEVENT
DTSTART;TZID=America/New_York:20220216T150000
DTEND;TZID=America/New_York:20220216T163000
DTSTAMP:20260421T055220
CREATED:20220214T150612Z
LAST-MODIFIED:20220214T150612Z
UID:95077-1645023600-1645029000@offlinesharks.com
SUMMARY:How To Turn A Hidden Facebook Feature Into $500 Every Month With A Single Email: And Then SCALE The Process To $5\,000 Recurring!
DESCRIPTION:
URL:https://offlinesharks.com/event/how-to-turn-a-hidden-facebook-feature-into-500-every-month-with-a-single-email-and-then-scale-the-process-to-5000-recurring/
LOCATION:GoToWebinar
END:VEVENT
BEGIN:VEVENT
DTSTART;TZID=America/New_York:20220202T150000
DTEND;TZID=America/New_York:20220202T163000
DTSTAMP:20260421T055220
CREATED:20220129T191108Z
LAST-MODIFIED:20220129T191108Z
UID:94952-1643814000-1643819400@offlinesharks.com
SUMMARY:How To Sell Easy $300 "Website Mini Roadmaps"... WITHOUT Being A Website or SEO Expert!
DESCRIPTION:
URL:https://offlinesharks.com/event/how-to-sell-easy-300-website-mini-roadmaps-without-being-a-website-or-seo-expert/
LOCATION:GoToWebinar
END:VEVENT
BEGIN:VEVENT
DTSTART;TZID=America/New_York:20220118T150000
DTEND;TZID=America/New_York:20220118T163000
DTSTAMP:20260421T055220
CREATED:20220115T181955Z
LAST-MODIFIED:20220115T181955Z
UID:94869-1642518000-1642523400@offlinesharks.com
SUMMARY:The AI-Powered SEO Agency Masterclass
DESCRIPTION:
URL:https://offlinesharks.com/event/the-ai-powered-seo-agency-masterclass/
LOCATION:GoToWebinar
END:VEVENT
BEGIN:VEVENT
DTSTART;TZID=America/New_York:20211215T150000
DTEND;TZID=America/New_York:20211215T163000
DTSTAMP:20260421T055220
CREATED:20211212T194636Z
LAST-MODIFIED:20211213T155158Z
UID:94569-1639580400-1639585800@offlinesharks.com
SUMMARY:The High-Ticket Google Maps Secret: How to Land High-Dollar SEO Clients in 2022... Even If You Know NOTHING About SEO!
DESCRIPTION:
URL:https://offlinesharks.com/event/the-high-ticket-google-maps-secret-how-to-land-high-dollar-seo-clients-in-2022-even-if-you-know-nothing-about-seo/
LOCATION:GoToWebinar
END:VEVENT
BEGIN:VEVENT
DTSTART;TZID=America/New_York:20211208T150000
DTEND;TZID=America/New_York:20211208T163000
DTSTAMP:20260421T055220
CREATED:20211206T021935Z
LAST-MODIFIED:20211206T021935Z
UID:94506-1638975600-1638981000@offlinesharks.com
SUMMARY:How To Scale Your Agency With Subscriptions and MRR (Monthly Recurring Revenue)
DESCRIPTION:
URL:https://offlinesharks.com/event/how-to-scale-your-agency-with-subscriptions-and-mrr-monthly-recurring-revenue/
LOCATION:GoToWebinar
END:VEVENT
BEGIN:VEVENT
DTSTART;TZID=America/New_York:20211117T180000
DTEND;TZID=America/New_York:20211117T190000
DTSTAMP:20260421T055220
CREATED:20201225T012937Z
LAST-MODIFIED:20211109T183226Z
UID:84754-1637172000-1637175600@offlinesharks.com
SUMMARY:Agency Growth Machine Coaching Call
DESCRIPTION:
URL:https://offlinesharks.com/event/agency-growth-machine-coaching-call-2021-11-17/
LOCATION:GoToWebinar
ATTACH;FMTTYPE=image/png:https://offlinesharks.com/wp-content/uploads/2020/12/Shark-Alliance-Elite-Coaching-Call-2.png
END:VEVENT
BEGIN:VEVENT
DTSTART;TZID=America/New_York:20211110T150000
DTEND;TZID=America/New_York:20211110T163000
DTSTAMP:20260421T055220
CREATED:20211105T182824Z
LAST-MODIFIED:20211110T210628Z
UID:93660-1636556400-1636561800@offlinesharks.com
SUMMARY:The Virtual Fortune Roadmap
DESCRIPTION:
URL:https://offlinesharks.com/event/the-virtual-fortune-roadmap-2/
LOCATION:GoToWebinar
END:VEVENT
BEGIN:VEVENT
DTSTART;TZID=America/New_York:20211020T180000
DTEND;TZID=America/New_York:20211020T190000
DTSTAMP:20260421T055220
CREATED:20201225T012937Z
LAST-MODIFIED:20211013T144718Z
UID:84753-1634752800-1634756400@offlinesharks.com
SUMMARY:Agency Growth Machine Coaching Call
DESCRIPTION:
URL:https://offlinesharks.com/event/agency-growth-machine-coaching-call-2021-10-20/
LOCATION:GoToWebinar
ATTACH;FMTTYPE=image/png:https://offlinesharks.com/wp-content/uploads/2020/12/Shark-Alliance-Elite-Coaching-Call-2.png
END:VEVENT
BEGIN:VEVENT
DTSTART;TZID=America/New_York:20211014T180000
DTEND;TZID=America/New_York:20211014T193000
DTSTAMP:20260421T055220
CREATED:20211013T183935Z
LAST-MODIFIED:20211013T184022Z
UID:93387-1634234400-1634239800@offlinesharks.com
SUMMARY:Authority Accelerator Special Live Training
DESCRIPTION:
URL:https://offlinesharks.com/event/authority-accelerator-special-live-training-2/
LOCATION:GoToWebinar
END:VEVENT
BEGIN:VEVENT
DTSTART;TZID=America/New_York:20211013T140000
DTEND;TZID=America/New_York:20211013T153000
DTSTAMP:20260421T055220
CREATED:20211009T134738Z
LAST-MODIFIED:20211009T134738Z
UID:93351-1634133600-1634139000@offlinesharks.com
SUMMARY:Authority Accelerator Special Live Training
DESCRIPTION:
URL:https://offlinesharks.com/event/authority-accelerator-special-live-training/
LOCATION:GoToWebinar
END:VEVENT
BEGIN:VEVENT
DTSTART;TZID=America/New_York:20210825T150000
DTEND;TZID=America/New_York:20210825T170000
DTSTAMP:20260421T055220
CREATED:20210820T184747Z
LAST-MODIFIED:20210820T184747Z
UID:92910-1629903600-1629910800@offlinesharks.com
SUMMARY:LIVE Case Study: 19 Keywords On Page 1 With Only 5 Backlinks!
DESCRIPTION:
URL:https://offlinesharks.com/event/live-case-study-19-keywords-on-page-1-with-only-5-backlinks/
LOCATION:GoToWebinar
END:VEVENT
BEGIN:VEVENT
DTSTART;TZID=America/New_York:20210728T150000
DTEND;TZID=America/New_York:20210728T160000
DTSTAMP:20260421T055220
CREATED:20210723T184426Z
LAST-MODIFIED:20210723T184426Z
UID:92776-1627484400-1627488000@offlinesharks.com
SUMMARY:The Virtual Fortune Roadmap
DESCRIPTION:
URL:https://offlinesharks.com/event/the-virtual-fortune-roadmap/
LOCATION:GoToWebinar
END:VEVENT
BEGIN:VEVENT
DTSTART;TZID=America/New_York:20210721T180000
DTEND;TZID=America/New_York:20210721T190000
DTSTAMP:20260421T055220
CREATED:20201225T012937Z
LAST-MODIFIED:20210711T200700Z
UID:84750-1626890400-1626894000@offlinesharks.com
SUMMARY:Agency Growth Machine Coaching Call
DESCRIPTION:
URL:https://offlinesharks.com/event/agency-growth-machine-coaching-call-2021-07-14/
LOCATION:GoToWebinar
ATTACH;FMTTYPE=image/png:https://offlinesharks.com/wp-content/uploads/2020/12/Shark-Alliance-Elite-Coaching-Call-2.png
END:VEVENT
BEGIN:VEVENT
DTSTART;TZID=America/New_York:20210716T180000
DTEND;TZID=America/New_York:20210716T193000
DTSTAMP:20260421T055220
CREATED:20210715T201158Z
LAST-MODIFIED:20210715T201158Z
UID:92603-1626458400-1626463800@offlinesharks.com
SUMMARY:ENCORE: How To Hit 6-Figures With Just 4 Clients In 1-2 Hours/Day
DESCRIPTION:
URL:https://offlinesharks.com/event/encore-how-to-hit-6-figures-with-just-4-clients-in-1-2-hours-day/
LOCATION:GoToWebinar
END:VEVENT
BEGIN:VEVENT
DTSTART;TZID=America/New_York:20210715T150000
DTEND;TZID=America/New_York:20210715T163000
DTSTAMP:20260421T055220
CREATED:20210711T200515Z
LAST-MODIFIED:20210711T200515Z
UID:92580-1626361200-1626366600@offlinesharks.com
SUMMARY:How To Hit 6-Figures With Just 4 Clients In 1-2 Hours/Day
DESCRIPTION:
URL:https://offlinesharks.com/event/how-to-hit-6-figures-with-just-4-clients-in-1-2-hours-day/
LOCATION:GoToWebinar
END:VEVENT
BEGIN:VEVENT
DTSTART;TZID=America/New_York:20210701T180000
DTEND;TZID=America/New_York:20210701T190000
DTSTAMP:20260421T055220
CREATED:20210701T011109Z
LAST-MODIFIED:20210701T011109Z
UID:92533-1625162400-1625166000@offlinesharks.com
SUMMARY:ENCORE: QuickStart Agency Accelerator: How To Set Up An Automated Business That Banks $1k-$2k/Week\, Even If You're Brand New
DESCRIPTION:
URL:https://offlinesharks.com/event/encore-quickstart-agency-accelerator-how-to-set-up-an-automated-business-that-banks-1k-2k-week-even-if-youre-brand-new/
LOCATION:GoToWebinar
END:VEVENT
BEGIN:VEVENT
DTSTART;TZID=America/New_York:20210630T150000
DTEND;TZID=America/New_York:20210630T170000
DTSTAMP:20260421T055220
CREATED:20210629T174938Z
LAST-MODIFIED:20210629T174938Z
UID:92521-1625065200-1625072400@offlinesharks.com
SUMMARY:QuickStart Agency Accelerator: How To Set Up An Automated Business That Banks $1k-$2k/Week\, Even If You're Brand New
DESCRIPTION:
URL:https://offlinesharks.com/event/quickstart-agency-accelerator-how-to-set-up-an-automated-business-that-banks-1k-2k-week-even-if-youre-brand-new/
LOCATION:GoToWebinar
END:VEVENT
BEGIN:VEVENT
DTSTART;TZID=America/New_York:20210610T150000
DTEND;TZID=America/New_York:20210610T170000
DTSTAMP:20260421T055220
CREATED:20210608T151249Z
LAST-MODIFIED:20210608T151249Z
UID:92377-1623337200-1623344400@offlinesharks.com
SUMMARY:The Secret SEO Roadmap That Is Building 6-Figure PER MONTH Agencies From Scratch
DESCRIPTION:
URL:https://offlinesharks.com/event/the-secret-seo-roadmap-that-is-building-6-figure-per-month-agencies-from-scratch/
LOCATION:GoToWebinar
END:VEVENT
BEGIN:VEVENT
DTSTART;TZID=America/New_York:20210602T140000
DTEND;TZID=America/New_York:20210602T153000
DTSTAMP:20260421T055220
CREATED:20210531T133846Z
LAST-MODIFIED:20210531T133846Z
UID:92349-1622642400-1622647800@offlinesharks.com
SUMMARY:New Client Automation System: Attract\, Nurture & Acquire New Customers Fast!
DESCRIPTION:It's no secret… the key to success in this business lies in your ability to attract\, nurture\, and convert new prospects to clients… FAST. Lucky for all of us\, what used to be a manual\, labor-intensive\, one-on-one process… can now be done with the click of a few buttons. \nHow? \nJoin us this Wednesday\, June 2nd at 2pm ET / 11am PT to see a complete client automation system that's brand new and working like gangbusters right NOW. \nWhen you join us\, you'll see how to Attract\, Nurture & Acquire New Customers with: \n– Easy-to-Implement Systems That Automatically Attract\, Capture & Nurture Your Best Prospects Into Clients\n– Autopilot Engagement Strategies That Easily Land NEW Sales Every Week\n– Simple Win-Back Processes That Turn Lost Sales Into Recaptured Revenue\n– No-Team-Needed Upsells That Double or Triple Your Profits From the SAME Leads \nNo matter what stage your business is at right now\, I can guarantee you will learn something on this call. \nAnd don’t worry…. \nIf you are new or just getting started without a formal business or services lined up yet… we have a special *bonus* to help you 🙂 \nIt's all happening LIVE this Wednesday\, June 2nd at 2pm ET / 11am PT. See you there!
URL:https://offlinesharks.com/event/new-client-automation-system-attract-nurture-acquire-new-customers-fast/
LOCATION:GoToWebinar
END:VEVENT
END:VCALENDAR