BEGIN:VCALENDAR
VERSION:2.0
PRODID:-//Offline Sharks - ECPv6.15.14//NONSGML v1.0//EN
CALSCALE:GREGORIAN
METHOD:PUBLISH
X-WR-CALNAME:Offline Sharks
X-ORIGINAL-URL:https://offlinesharks.com
X-WR-CALDESC:Events for Offline Sharks
REFRESH-INTERVAL;VALUE=DURATION:PT1H
X-Robots-Tag:noindex
X-PUBLISHED-TTL:PT1H
BEGIN:VTIMEZONE
TZID:America/New_York
BEGIN:DAYLIGHT
TZOFFSETFROM:-0500
TZOFFSETTO:-0400
TZNAME:EDT
DTSTART:20190310T070000
END:DAYLIGHT
BEGIN:STANDARD
TZOFFSETFROM:-0400
TZOFFSETTO:-0500
TZNAME:EST
DTSTART:20191103T060000
END:STANDARD
BEGIN:DAYLIGHT
TZOFFSETFROM:-0500
TZOFFSETTO:-0400
TZNAME:EDT
DTSTART:20200308T070000
END:DAYLIGHT
BEGIN:STANDARD
TZOFFSETFROM:-0400
TZOFFSETTO:-0500
TZNAME:EST
DTSTART:20201101T060000
END:STANDARD
BEGIN:DAYLIGHT
TZOFFSETFROM:-0500
TZOFFSETTO:-0400
TZNAME:EDT
DTSTART:20210314T070000
END:DAYLIGHT
BEGIN:STANDARD
TZOFFSETFROM:-0400
TZOFFSETTO:-0500
TZNAME:EST
DTSTART:20211107T060000
END:STANDARD
BEGIN:DAYLIGHT
TZOFFSETFROM:-0500
TZOFFSETTO:-0400
TZNAME:EDT
DTSTART:20220313T070000
END:DAYLIGHT
BEGIN:STANDARD
TZOFFSETFROM:-0400
TZOFFSETTO:-0500
TZNAME:EST
DTSTART:20221106T060000
END:STANDARD
END:VTIMEZONE
BEGIN:VEVENT
DTSTART;TZID=America/New_York:20210202T180000
DTEND;TZID=America/New_York:20210202T193000
DTSTAMP:20260421T163719
CREATED:20210201T202323Z
LAST-MODIFIED:20210201T211533Z
UID:91314-1612288800-1612294200@offlinesharks.com
SUMMARY:Digital Agency Growth: The 3 Roadblocks That Will Stop You Dead In Your Tracks... And How To Overcome Them
DESCRIPTION:Notice: If you clicked here from one of our emails\, you've been automatically registered. There is no need to re-register at the link below. \nDo you want to make six-figures? What's the quickest way to get there? And what are the biggest OBSTACLES that can derail you and keep you from hitting your goal? \nJoin us this Tuesday at 6pm EST / 3pm PST as we reveal what it took for us to hit six-figures\, and how you can use our experience to get there yourself–FAST. \nWe'll reveal the 3 WALLS that can stop you dead in your tracks\, and how you can OVERCOME them. \nThe strategies and ideas we'll be sharing on this call have changed the lives of dozens of Sharks just like you\, hungry to take their digital marketing businesses to the next level. Join us this Tuesday and we'll show you how to do exactly that!
URL:https://offlinesharks.com/event/digital-agency-growth-the-3-roadblocks-that-will-stop-you-dead-in-your-tracks-and-how-to-overcome-them/
LOCATION:GoToWebinar
ATTACH;FMTTYPE=image/png:https://offlinesharks.com/wp-content/uploads/2021/02/AGENCY.png
END:VEVENT
BEGIN:VEVENT
DTSTART;TZID=America/New_York:20210113T180000
DTEND;TZID=America/New_York:20210113T190000
DTSTAMP:20260421T163719
CREATED:20201225T012937Z
LAST-MODIFIED:20210201T214412Z
UID:84738-1610560800-1610564400@offlinesharks.com
SUMMARY:Agency Growth Machine Coaching Call
DESCRIPTION:
URL:https://offlinesharks.com/event/agency-growth-machine-coaching-call/
LOCATION:GoToWebinar
ATTACH;FMTTYPE=image/png:https://offlinesharks.com/wp-content/uploads/2020/12/Shark-Alliance-Elite-Coaching-Call-2.png
END:VEVENT
BEGIN:VEVENT
DTSTART;TZID=America/New_York:20210111T150000
DTEND;TZID=America/New_York:20210111T160000
DTSTAMP:20260421T163719
CREATED:20201225T012840Z
LAST-MODIFIED:20210201T215232Z
UID:84690-1610377200-1610380800@offlinesharks.com
SUMMARY:Shark Alliance Plus & Elite Coaching Call
DESCRIPTION:
URL:https://offlinesharks.com/event/shark-alliance-plus-elite-coaching-call/
LOCATION:GoToWebinar
ATTACH;FMTTYPE=image/png:https://offlinesharks.com/wp-content/uploads/2020/12/Shark-Alliance-Elite-Coaching-Call-4.png
END:VEVENT
BEGIN:VEVENT
DTSTART;TZID=America/New_York:20210101T150000
DTEND;TZID=America/New_York:20210101T160000
DTSTAMP:20260421T163719
CREATED:20201225T012328Z
LAST-MODIFIED:20210201T214628Z
UID:84560-1609513200-1609516800@offlinesharks.com
SUMMARY:Sharks LIVE Show
DESCRIPTION:
URL:https://offlinesharks.com/event/sharks-live-show/
LOCATION:Facebook Live
ATTACH;FMTTYPE=image/png:https://offlinesharks.com/wp-content/uploads/2020/12/Aloha-Friday-Local-Marketing-Jam-Session-Offline-Sharks.png
END:VEVENT
BEGIN:VEVENT
DTSTART;TZID=America/New_York:20201228T150000
DTEND;TZID=America/New_York:20201228T160000
DTSTAMP:20260421T163719
CREATED:20201225T012729Z
LAST-MODIFIED:20210201T214419Z
UID:84668-1609167600-1609171200@offlinesharks.com
SUMMARY:Shark Alliance Elite Coaching Call
DESCRIPTION:
URL:https://offlinesharks.com/event/shark-alliance-elite-coaching-call/
LOCATION:GoToWebinar
ATTACH;FMTTYPE=image/png:https://offlinesharks.com/wp-content/uploads/2020/12/Shark-Alliance-Elite-Coaching-Call-3.png
END:VEVENT
END:VCALENDAR